BEGIN:VCALENDAR
VERSION:2.0
PRODID:-//Morrison House - ECPv6.15.20//NONSGML v1.0//EN
CALSCALE:GREGORIAN
METHOD:PUBLISH
X-WR-CALNAME:Morrison House
X-ORIGINAL-URL:https://morrisonhouse.com
X-WR-CALDESC:Events for Morrison House
REFRESH-INTERVAL;VALUE=DURATION:PT1H
X-Robots-Tag:noindex
X-PUBLISHED-TTL:PT1H
BEGIN:VTIMEZONE
TZID:UTC
BEGIN:STANDARD
TZOFFSETFROM:+0000
TZOFFSETTO:+0000
TZNAME:UTC
DTSTART:20240101T000000
END:STANDARD
END:VTIMEZONE
BEGIN:VEVENT
DTSTART;VALUE=DATE:20250925
DTEND;VALUE=DATE:20251007
DTSTAMP:20260421T184317
CREATED:20250916T204934Z
LAST-MODIFIED:20251017T070246Z
UID:26320-1758758400-1759795199@morrisonhouse.com
SUMMARY:Old Town Cocktail Week
DESCRIPTION:Presented By Suntory Global Spirits in partnership with Captain Gregory’s\, Old Town Cocktail Week is a celebration of the imagination and innovation within Alexandria’s cocktail scene. Grab a featured cocktail from one of the over 40 participating restaurants or join us for a curated event and enjoy it all while on a staycation at one of the participating hotels with a stay and play package specially curated for Old Town Cocktail Week.
URL:https://morrisonhouse.com/event/old-town-cocktail-week/
CATEGORIES:Calendar of Events
ATTACH;FMTTYPE=image/jpeg:https://morrisonhouse.com/assets/2023/02/AK_WASMH_Study-Ambient-0148-Resized-for-Web.jpeg
END:VEVENT
END:VCALENDAR