BEGIN:VCALENDAR
VERSION:2.0
PRODID:-//Morrison House - ECPv6.15.20//NONSGML v1.0//EN
CALSCALE:GREGORIAN
METHOD:PUBLISH
X-WR-CALNAME:Morrison House
X-ORIGINAL-URL:https://morrisonhouse.com
X-WR-CALDESC:Events for Morrison House
REFRESH-INTERVAL;VALUE=DURATION:PT1H
X-Robots-Tag:noindex
X-PUBLISHED-TTL:PT1H
BEGIN:VTIMEZONE
TZID:UTC
BEGIN:STANDARD
TZOFFSETFROM:+0000
TZOFFSETTO:+0000
TZNAME:UTC
DTSTART:20240101T000000
END:STANDARD
END:VTIMEZONE
BEGIN:VEVENT
DTSTART;TZID=UTC:20250712T100000
DTEND;TZID=UTC:20250713T160000
DTSTAMP:20260420T103507
CREATED:20250630T144921Z
LAST-MODIFIED:20251017T073047Z
UID:25867-1752314400-1752422400@morrisonhouse.com
SUMMARY:Summer Art Market in Del Ray
DESCRIPTION:Don’t miss the Del Ray Artisans’ 4th annual Summer Art Market! This two-day\, indoor market gives you the chance to purchase original handmade artwork from talented local artists. Each day is a different group of local artists with original work in a wide range of media including ceramics\, fiber\, glass\, jewelry\, mixed media\, paper\, photography\, and more. Perfect for gifts or treat yourself! \nThe 2025 Summer Art Market is on Saturday and Sunday\, July 12 and 13\, from 10am–4pm inside Del Ray Artisans gallery at 2704 Mount Vernon Avenue\, Alexandria\, VA. The Summer Art Market is open to the public and free to browse. \nDifferent artists are featured each day\, so treat yourself and plan to visit the gallery on both days.
URL:https://morrisonhouse.com/event/summer-art-market-in-del-ray/
LOCATION:Del Ray Artisans Gallery\, 2704 Mount Vernon Ave\, Alexandria\, VA\, 22314\, United States
CATEGORIES:Calendar of Events,Markets
ATTACH;FMTTYPE=image/jpeg:https://morrisonhouse.com/assets/2025/06/summer-art-market.jpg
END:VEVENT
END:VCALENDAR