BEGIN:VCALENDAR
VERSION:2.0
PRODID:-//Morrison House - ECPv6.15.20//NONSGML v1.0//EN
CALSCALE:GREGORIAN
METHOD:PUBLISH
X-WR-CALNAME:Morrison House
X-ORIGINAL-URL:https://morrisonhouse.com
X-WR-CALDESC:Events for Morrison House
REFRESH-INTERVAL;VALUE=DURATION:PT1H
X-Robots-Tag:noindex
X-PUBLISHED-TTL:PT1H
BEGIN:VTIMEZONE
TZID:UTC
BEGIN:STANDARD
TZOFFSETFROM:+0000
TZOFFSETTO:+0000
TZNAME:UTC
DTSTART:20240101T000000
END:STANDARD
END:VTIMEZONE
BEGIN:VEVENT
DTSTART;TZID=UTC:20251012T110000
DTEND;TZID=UTC:20251012T160000
DTSTAMP:20260421T042719
CREATED:20250916T175856Z
LAST-MODIFIED:20251017T065305Z
UID:26315-1760266800-1760284800@morrisonhouse.com
SUMMARY:Paws in the Park
DESCRIPTION:Pup-kin Spice and Everything Nice! Fall Festival “Paws in the Park” is October 12 \nPaws in the Park returns to Oronoco Bay Park in Old Town Alexandria on Sunday\, October 12\, from 11 a.m. to 4 p.m. and promises to be an even bigger paw-ty than previous years! \nThis annual event celebrates northern Virginia’s love for animals and offers attendees a one-of-a-kind family and pet-friendly free fall festival featuring vendors\, adoptable animals\, and a variety of entertainment and live music for kids and adults. \nAlong with many local artisans\, nonprofits\, and animal-focused businesses\, Paws in the Park will host food and beverage vendors\, too. Attendees can pack a picnic and also savor drinks and food from local cideries\, breweries\, wineries\, bakeries\, food trucks\, and more while enjoying the day’s entertainment and shopping. \nThe first 1\,000 attendees at Paws in the Park will receive a one-of-a-kind swag bag. Paws in the Park is open to leashed\, well-behaved pets of all types. More information about this year’s festival can be found at www.PawsintheParkVA.com.
URL:https://morrisonhouse.com/event/paws-in-the-park/
LOCATION:Oronoco Bay Park\, 100 Madison St\, Alexandria\, VA\, 22314\, United States
CATEGORIES:Calendar of Events,Community,Furry Friends
ATTACH;FMTTYPE=image/jpeg:https://morrisonhouse.com/assets/2025/09/525258359_1245534820946397_4620905125320246604_n-1-scaled.jpg
END:VEVENT
END:VCALENDAR