BEGIN:VCALENDAR
VERSION:2.0
PRODID:-//Morrison House - ECPv6.15.20//NONSGML v1.0//EN
CALSCALE:GREGORIAN
METHOD:PUBLISH
X-WR-CALNAME:Morrison House
X-ORIGINAL-URL:https://morrisonhouse.com
X-WR-CALDESC:Events for Morrison House
REFRESH-INTERVAL;VALUE=DURATION:PT1H
X-Robots-Tag:noindex
X-PUBLISHED-TTL:PT1H
BEGIN:VTIMEZONE
TZID:UTC
BEGIN:STANDARD
TZOFFSETFROM:+0000
TZOFFSETTO:+0000
TZNAME:UTC
DTSTART:20240101T000000
END:STANDARD
END:VTIMEZONE
BEGIN:VEVENT
DTSTART;VALUE=DATE:20260123
DTEND;VALUE=DATE:20260202
DTSTAMP:20260420T214242
CREATED:20251216T194344Z
LAST-MODIFIED:20251216T194344Z
UID:27202-1769126400-1769990399@morrisonhouse.com
SUMMARY:Alexandria Restaurant Week
DESCRIPTION:Alexandria Winter Restaurant Week will take place January 23 – February 1\, 2026. Stay tuned for news about participating restaurants. \nAlexandria Restaurant Week showcases the creativity of local chefs and breadth of international cuisine in neighborhoods throughout the city\, including Old Town\, Old Town North\, Del Ray\, Carlyle and Eisenhower\, Arlandria-Chirilagua and the West End. This event highlights the city’s vibrant food scene and encourages visitors and locals alike to discover new neighborhoods and tastes.
URL:https://morrisonhouse.com/event/alexandria-restaurant-week/
CATEGORIES:Calendar of Events,Community,Foodie Events
ATTACH;FMTTYPE=image/jpeg:https://morrisonhouse.com/assets/2025/12/DSC03698_Original-scaled.jpg
END:VEVENT
BEGIN:VEVENT
DTSTART;TZID=UTC:20251115T110000
DTEND;TZID=UTC:20251115T140000
DTSTAMP:20260420T214242
CREATED:20251002T192111Z
LAST-MODIFIED:20251017T062715Z
UID:26960-1763204400-1763215200@morrisonhouse.com
SUMMARY:WICKED Drag Brunch at King & Rye
DESCRIPTION:We might not have hallowed halls and vine-draped walls like Dear Old Shiz\, but we do have fabulous drag queens who plan to Defy Gravity and themed cocktails that will have you Dancing Through Life! For One Short Day in Old Town Alexandria\, we’re bringing the Emerald City to life to fill King & Rye with our favorite dynamic duo\, Glinda and Elphaba! \nCome dressed in your Shiz best or maybe something more suited for the Ozdust Ballroom! Either way\, we hope to hear your best “Ahhhh- Ahhh- Ah-Ahhhhh!” because at this event\, you are that girl! \nWe expect tickets to be Popular so don’t wait to buy! Tickets are $30.00 with a $25 food & beverage minimum at King & Rye. \nWe recommend buying your groups tickets together to ensure your party will be sat together. Note\, smaller parties may be seated with other small parties.
URL:https://morrisonhouse.com/event/wicked-drag-brunch-at-king-rye/
LOCATION:King & Rye\, 480 King Street\, Alexandria\, VA\, 22314\, United States
CATEGORIES:Calendar of Events,Foodie Events,Party
ATTACH;FMTTYPE=image/png:https://morrisonhouse.com/assets/2025/10/Event-Banner-Size-34.png
ORGANIZER;CN="King & Rye":MAILTO:info@kingandrye.com
END:VEVENT
BEGIN:VEVENT
DTSTART;VALUE=DATE:20251011
DTEND;VALUE=DATE:20251019
DTSTAMP:20260420T214242
CREATED:20250916T205637Z
LAST-MODIFIED:20251017T065509Z
UID:26323-1760140800-1760831999@morrisonhouse.com
SUMMARY:Old Town Oyster Week
DESCRIPTION:6th Annual Old Town Oyster week will run from October 11th – 18th 2025 \nOyster Shucking Competition will be held the morning of October 11th
URL:https://morrisonhouse.com/event/old-town-oyster-week/
CATEGORIES:Calendar of Events,Foodie Events
ATTACH;FMTTYPE=image/jpeg:https://morrisonhouse.com/assets/2025/09/shutterstock_2152259157-1.jpg
END:VEVENT
END:VCALENDAR